BEGIN:VCALENDAR
VERSION:2.0
PRODID:-//wp-events-plugin.com//7.2.3.1//EN
TZID:Europe/Berlin
X-WR-TIMEZONE:Europe/Berlin
BEGIN:VEVENT
UID:666@zahnarztsoftware.de
DTSTART:20260603T080000Z
DTEND:20260603T153000Z
DTSTAMP:20260326T090443Z
URL:https://zahnarztsoftware.de/events/daisy-live-webinar-5/
SUMMARY:DAISY Live-Webinar
DESCRIPTION:&nbsp\;\nSchienentherapie / FAL / FTL / CMD:\nAbrechnen oder be
 rechnen? Kasse oder Privat?\nAchtung! Anmeldeschluss ist Mi.\, 27.05.2026
END:VEVENT
END:VCALENDAR