BEGIN:VCALENDAR
VERSION:2.0
PRODID:-//wp-events-plugin.com//7.2.3.1//EN
TZID:Europe/Berlin
X-WR-TIMEZONE:Europe/Berlin
BEGIN:VEVENT
UID:651@zahnarztsoftware.de
DTSTART:20260707T080000Z
DTEND:20260707T153000Z
DTSTAMP:20260326T090443Z
URL:https://zahnarztsoftware.de/events/daisy-live-webinar-7/
SUMMARY:DAISY Live-Webinar
DESCRIPTION:&nbsp\;\nZahnersatz Teil 2\nInstandsetzungen / Reparaturen\nAch
 tung! Anmeldeschluss ist Di.\, 30.06.2026
END:VEVENT
END:VCALENDAR